BEGIN:VCALENDAR
VERSION:2.0
PRODID:-//MindAwareness - ECPv6.2.2.1//NONSGML v1.0//EN
CALSCALE:GREGORIAN
METHOD:PUBLISH
X-WR-CALNAME:MindAwareness
X-ORIGINAL-URL:https://www.mindawareness.nl
X-WR-CALDESC:Evenementen voor MindAwareness
REFRESH-INTERVAL;VALUE=DURATION:PT1H
X-Robots-Tag:noindex
X-PUBLISHED-TTL:PT1H
BEGIN:VTIMEZONE
TZID:UTC
BEGIN:STANDARD
TZOFFSETFROM:+0000
TZOFFSETTO:+0000
TZNAME:UTC
DTSTART:20250101T000000
END:STANDARD
END:VTIMEZONE
BEGIN:VEVENT
DTSTART;TZID=UTC:20250823T080000
DTEND;TZID=UTC:20250823T170000
DTSTAMP:20260426T030352
CREATED:20250411T072701Z
LAST-MODIFIED:20250411T073626Z
UID:30786-1755936000-1755968400@www.mindawareness.nl
SUMMARY:Truffelceremonie 23/08/2025
DESCRIPTION:Uitnodiging voor een Verrijkende Truffelceremonie door MindAwareness\nBeste avontuurlijke geest\, \nWij nodigen jou van harte uit om deel te nemen aan een betekenisvolle reis naar innerlijke groei en bewustzijn tijdens onze aankomende truffelceremonie\, gehost door MindAwareness. \nDatum: 23/08/2025  Tijd: 10:00 – +/- 18:00 \nLocatie: MindAwareness Horst \nWat kun je verwachten?\n\nEen persoonlijk intakegesprek van 30 tot 45 minuten om jouw intenties en verwachtingen te bespreken\, zodat we de ceremonie optimaal kunnen afstemmen op jouw behoeften.\nEen volledige dag gewijd aan introspectie en groei\, begeleid door ervaren facilitators van MindAwareness. Dit omvat ook alle benodigde voorzieningen\, evenals heerlijk eten en verfrissende drankjes om jouw welzijn te waarborgen.\nEen nagesprek ongeveer twee weken na de ceremonie\, om jouw ervaringen te bespreken en eventuele vragen of inzichten te delen die zijn opgekomen tijdens je reis.\n\nInvestering in jezelf: €260\,-\nAanmelden: Wil je deelnemen aan deze waardevolle ervaring? Vul dan direct hieronder ons aanmeldformulier in!\nWacht niet te lang\, want de beschikbare plaatsen zijn beperkt en worden toegewezen op basis van wie zich als eerste aanmeldt.\nSchakel JavaScript in je browser in om dit formulier in te vullen.Schakel JavaScript in je browser in om dit formulier in te vullen.Naam *VoornaamAchternaamDatum21/02/202604/04/202616/04/202620/06/202611/07/2026E-mail *		\n			komen? Met hoeveel\n			\n		\n		Met hoeveel personen wilt u komen?1 persoon2 personenMeer personen? Neem contact met ons op via 0611341708Verzend  \n \nDompel jezelf onder in de diepten van bewustzijn en ontdek de ongekende mogelijkheden die binnenin jou liggen. We kijken ernaar uit om samen met jou deze transformerende reis te maken. \nHartelijke groet\,\nNick en Frens\nMindAwareness
URL:https://www.mindawareness.nl/event/truffelceremonie-23-08-2025/
LOCATION:Heesland\, De Hees 63\, Kronenberg\, Limburg\, 5976NH\, Netherlands
ATTACH;FMTTYPE=image/png:https://www.mindawareness.nl/wp-content/uploads/2024/10/mindawareness-truffelafbeelding2.png
END:VEVENT
END:VCALENDAR