BEGIN:VCALENDAR
VERSION:2.0
PRODID:-//MindAwareness - ECPv6.2.2.1//NONSGML v1.0//EN
CALSCALE:GREGORIAN
METHOD:PUBLISH
X-WR-CALNAME:MindAwareness
X-ORIGINAL-URL:https://www.mindawareness.nl
X-WR-CALDESC:Evenementen voor MindAwareness
REFRESH-INTERVAL;VALUE=DURATION:PT1H
X-Robots-Tag:noindex
X-PUBLISHED-TTL:PT1H
BEGIN:VTIMEZONE
TZID:UTC
BEGIN:STANDARD
TZOFFSETFROM:+0000
TZOFFSETTO:+0000
TZNAME:UTC
DTSTART:20240101T000000
END:STANDARD
END:VTIMEZONE
BEGIN:VEVENT
DTSTART;TZID=UTC:20240629T090000
DTEND;TZID=UTC:20240629T183000
DTSTAMP:20260426T032525
CREATED:20231018T100601Z
LAST-MODIFIED:20240506T115734Z
UID:7935-1719651600-1719685800@www.mindawareness.nl
SUMMARY:Truffelceremonie 29/06/2024
DESCRIPTION:Uitnodiging voor een Verrijkende Truffelceremonie door MindAwareness\nBeste avontuurlijke geest\, \nWij nodigen jou van harte uit om deel te nemen aan een betekenisvolle reis naar innerlijke groei en bewustzijn tijdens onze aankomende truffelceremonie\, gehost door MindAwareness. \nDatum: 29/06/2024  Tijd: 10:00 – +/- 18:00 \nLocatie: MindAwareness Horst \nWat kun je verwachten?\n\nEen persoonlijk intakegesprek van 30 tot 45 minuten om jouw intenties en verwachtingen te bespreken\, zodat we de ceremonie optimaal kunnen afstemmen op jouw behoeften.\nEen volledige dag gewijd aan introspectie en groei\, begeleid door ervaren facilitators van MindAwareness. Dit omvat ook alle benodigde voorzieningen\, evenals heerlijk eten en verfrissende drankjes om jouw welzijn te waarborgen.\nEen nagesprek ongeveer twee weken na de ceremonie\, om jouw ervaringen te bespreken en eventuele vragen of inzichten te delen die zijn opgekomen tijdens je reis.\n\nInvestering in jezelf: €260\,-\nAanmelden: Wil je deelnemen aan deze waardevolle ervaring? Vul dan direct hieronder ons aanmeldformulier in!\nWacht niet te lang\, want de beschikbare plaatsen zijn beperkt en worden toegewezen op basis van wie zich als eerste aanmeldt.\n \nDompel jezelf onder in de diepten van bewustzijn en ontdek de ongekende mogelijkheden die binnenin jou liggen. We kijken ernaar uit om samen met jou deze transformerende reis te maken. \nHartelijke groet\,\nNick en Frens\nMindAwareness
URL:https://www.mindawareness.nl/event/truffelceremonie-29-06-2023/
LOCATION:Heesland\, De Hees 63\, Kronenberg\, Limburg\, 5976NH\, Netherlands
ATTACH;FMTTYPE=image/webp:https://www.mindawareness.nl/wp-content/uploads/2023/09/TRUFFELCEREMONIE6.webp
END:VEVENT
BEGIN:VEVENT
DTSTART;TZID=UTC:20240615T100000
DTEND;TZID=UTC:20240615T183000
DTSTAMP:20260426T032525
CREATED:20231018T100213Z
LAST-MODIFIED:20240506T115835Z
UID:7933-1718445600-1718476200@www.mindawareness.nl
SUMMARY:Truffelceremonie 15/06/2024
DESCRIPTION:Uitnodiging voor een Verrijkende Truffelceremonie door MindAwareness\nBeste avontuurlijke geest\, \nWij nodigen jou van harte uit om deel te nemen aan een betekenisvolle reis naar innerlijke groei en bewustzijn tijdens onze aankomende truffelceremonie\, gehost door MindAwareness. \nDatum: 15/06/2024  Tijd: 10:00 – +/- 18:00 \nLocatie: MindAwareness Horst \nWat kun je verwachten?\n\nEen persoonlijk intakegesprek van 30 tot 45 minuten om jouw intenties en verwachtingen te bespreken\, zodat we de ceremonie optimaal kunnen afstemmen op jouw behoeften.\nEen volledige dag gewijd aan introspectie en groei\, begeleid door ervaren facilitators van MindAwareness. Dit omvat ook alle benodigde voorzieningen\, evenals heerlijk eten en verfrissende drankjes om jouw welzijn te waarborgen.\nEen nagesprek ongeveer twee weken na de ceremonie\, om jouw ervaringen te bespreken en eventuele vragen of inzichten te delen die zijn opgekomen tijdens je reis.\n\nInvestering in jezelf: €260\,-\nAanmelden: Wil je deelnemen aan deze waardevolle ervaring? Vul dan direct hieronder ons aanmeldformulier in!\nWacht niet te lang\, want de beschikbare plaatsen zijn beperkt en worden toegewezen op basis van wie zich als eerste aanmeldt.\n \nDompel jezelf onder in de diepten van bewustzijn en ontdek de ongekende mogelijkheden die binnenin jou liggen. We kijken ernaar uit om samen met jou deze transformerende reis te maken. \nHartelijke groet\,\nNick en Frens\nMindAwareness
URL:https://www.mindawareness.nl/event/truffelceremonie-22-06-2023/
ATTACH;FMTTYPE=image/webp:https://www.mindawareness.nl/wp-content/uploads/2023/09/TRUFFELCEREMONIE6.webp
END:VEVENT
BEGIN:VEVENT
DTSTART;TZID=UTC:20240518T100000
DTEND;TZID=UTC:20240518T180000
DTSTAMP:20260426T032525
CREATED:20231018T095748Z
LAST-MODIFIED:20240105T103934Z
UID:7927-1716026400-1716055200@www.mindawareness.nl
SUMMARY:Truffelceremonie 18/05/2024
DESCRIPTION:Uitnodiging voor een Verrijkende Truffelceremonie door MindAwareness\nBeste avontuurlijke geest\, \nWij nodigen jou van harte uit om deel te nemen aan een betekenisvolle reis naar innerlijke groei en bewustzijn tijdens onze aankomende truffelceremonie\, gehost door MindAwareness. \nDatum: 18/05/2024  Tijd: 10:00 – +/- 18:00 \nLocatie: MindAwareness Horst \nWat kun je verwachten?\n\nEen persoonlijk intakegesprek van 30 tot 45 minuten om jouw intenties en verwachtingen te bespreken\, zodat we de ceremonie optimaal kunnen afstemmen op jouw behoeften.\nEen volledige dag gewijd aan introspectie en groei\, begeleid door ervaren facilitators van MindAwareness. Dit omvat ook alle benodigde voorzieningen\, evenals heerlijk eten en verfrissende drankjes om jouw welzijn te waarborgen.\nEen nagesprek ongeveer twee weken na de ceremonie\, om jouw ervaringen te bespreken en eventuele vragen of inzichten te delen die zijn opgekomen tijdens je reis.\n\nInvestering in jezelf: €260\,-\nAanmelden: Wil je deelnemen aan deze waardevolle ervaring? Vul dan direct hieronder ons aanmeldformulier in!\nWacht niet te lang\, want de beschikbare plaatsen zijn beperkt en worden toegewezen op basis van wie zich als eerste aanmeldt.\n \nDompel jezelf onder in de diepten van bewustzijn en ontdek de ongekende mogelijkheden die binnenin jou liggen. We kijken ernaar uit om samen met jou deze transformerende reis te maken. \nHartelijke groet\,\nNick en Frens\nMindAwareness
URL:https://www.mindawareness.nl/event/truffelceremonie-18-05-2023/
LOCATION:Heesland\, De Hees 63\, Kronenberg\, Limburg\, 5976NH\, Netherlands
ATTACH;FMTTYPE=image/webp:https://www.mindawareness.nl/wp-content/uploads/2023/09/TRUFFELCEREMONIE6.webp
END:VEVENT
END:VCALENDAR